BEGIN:VCALENDAR
VERSION:2.0
PRODID:-//LEO Network//Training Calendar//EN
BEGIN:VEVENT
UID:event-1250@leo-network.com
DTSTAMP:20260422T155055Z
DTSTART:20221212T160000Z
DTEND:20221213T010000Z
SUMMARY:Stopping Crime On Our Roadways
DESCRIPTION:Law Enforcement Training
Hosted by: Street Cop Training

View event details:
https://www.leo-network.com/event/stopping-crime-on-our-roadways-georgetown-ky-1250/
LOCATION:Georgetown, KY
URL:https://www.leo-network.com/event/stopping-crime-on-our-roadways-georgetown-ky-1250/
END:VEVENT
END:VCALENDAR
