BEGIN:VCALENDAR
VERSION:2.0
PRODID:-//LEO Network//Training Calendar//EN
BEGIN:VEVENT
UID:event-1284@leo-network.com
DTSTAMP:20260422T102143Z
DTSTART:20230501T150000Z
DTEND:20230406T000000Z
SUMMARY:2023 Annual Training Conference
DESCRIPTION:Law Enforcement Training
Hosted by: International Association of Law Enforcement Firearms Instructors

View event details:
https://www.leo-network.com/event/2023-annual-training-conference-houston-tx-1284/
LOCATION:Houston, TX
URL:https://www.leo-network.com/event/2023-annual-training-conference-houston-tx-1284/
END:VEVENT
END:VCALENDAR
