BEGIN:VCALENDAR
VERSION:2.0
PRODID:-//LEO Network//Training Calendar//EN
BEGIN:VEVENT
UID:event-1312@leo-network.com
DTSTAMP:20260424T141415Z
DTSTART:20240101T160000Z
DTEND:20240102T010000Z
SUMMARY:Compartment Training 101 (TEST ONLY)
DESCRIPTION:Law Enforcement Training
Hosted by: Trapt Out

View event details:
https://www.leo-network.com/event/compartment-training-101-test-only-anaheim-ca-1312/
LOCATION:Anaheim, CA
URL:https://www.leo-network.com/event/compartment-training-101-test-only-anaheim-ca-1312/
END:VEVENT
END:VCALENDAR
