BEGIN:VCALENDAR
VERSION:2.0
PRODID:-//LEO Network//Training Calendar//EN
BEGIN:VEVENT
UID:event-1340@leo-network.com
DTSTAMP:20260424T174811Z
DTSTART:20230724T150000Z
DTEND:20230727T000000Z
SUMMARY:Cellular Technology, Records, and Analysis (CTRA)
DESCRIPTION:Law Enforcement Training
Hosted by: A.B.M. Intel

View event details:
https://www.leo-network.com/event/cellular-technology-records-and-analysis-ctra-burbank-ca-1340/
LOCATION:Burbank, CA
URL:https://www.leo-network.com/event/cellular-technology-records-and-analysis-ctra-burbank-ca-1340/
END:VEVENT
END:VCALENDAR
