BEGIN:VCALENDAR
VERSION:2.0
PRODID:-//LEO Network//Training Calendar//EN
BEGIN:VEVENT
UID:event-1360@leo-network.com
DTSTAMP:20260423T085834Z
DTSTART:20230424T150000Z
DTEND:20230425T000000Z
SUMMARY:Immediate Action: Tactical/Medical Class #23-15
DESCRIPTION:Law Enforcement Training
Hosted by: Lighthorse Tactical, LLC

View event details:
https://www.leo-network.com/event/immediate-action-tactical-medical-class-23-15-calera-al-1360/
LOCATION:Calera, AL
URL:https://www.leo-network.com/event/immediate-action-tactical-medical-class-23-15-calera-al-1360/
END:VEVENT
END:VCALENDAR
