BEGIN:VCALENDAR
VERSION:2.0
PRODID:-//LEO Network//Training Calendar//EN
BEGIN:VEVENT
UID:event-1362@leo-network.com
DTSTAMP:20260423T085005Z
DTSTART:20230425T150000Z
DTEND:20230426T000000Z
SUMMARY:Working Angles & Spaces Intro (WASP1)- 23-16
DESCRIPTION:Law Enforcement Training
Hosted by: Lighthorse Tactical, LLC

View event details:
https://www.leo-network.com/event/working-angles-spaces-intro-wasp1-23-16-calera-al-1362/
LOCATION:Calera, AL
URL:https://www.leo-network.com/event/working-angles-spaces-intro-wasp1-23-16-calera-al-1362/
END:VEVENT
END:VCALENDAR
