BEGIN:VCALENDAR
VERSION:2.0
PRODID:-//LEO Network//Training Calendar//EN
BEGIN:VEVENT
UID:event-1363@leo-network.com
DTSTAMP:20260423T085845Z
DTSTART:20230422T150000Z
DTEND:20230423T000000Z
SUMMARY:Tactical Handgun- GUNS1 #23-13
DESCRIPTION:Law Enforcement Training
Hosted by: Lighthorse Tactical, LLC

View event details:
https://www.leo-network.com/event/tactical-handgun-guns1-23-13-calera-al-1363/
LOCATION:Calera, AL
URL:https://www.leo-network.com/event/tactical-handgun-guns1-23-13-calera-al-1363/
END:VEVENT
END:VCALENDAR
