BEGIN:VCALENDAR
VERSION:2.0
PRODID:-//LEO Network//Training Calendar//EN
BEGIN:VEVENT
UID:event-1367@leo-network.com
DTSTAMP:20260422T173023Z
DTSTART:20230428T150000Z
DTEND:20230429T000000Z
SUMMARY:Handgun Skill Builder
DESCRIPTION:Law Enforcement Training
Hosted by: Paratus Forty-Six, LLC

View event details:
https://www.leo-network.com/event/handgun-skill-builder-pawnee-ok-1367/
LOCATION:Pawnee, OK
URL:https://www.leo-network.com/event/handgun-skill-builder-pawnee-ok-1367/
END:VEVENT
END:VCALENDAR
