BEGIN:VCALENDAR
VERSION:2.0
PRODID:-//LEO Network//Training Calendar//EN
BEGIN:VEVENT
UID:event-1419@leo-network.com
DTSTAMP:20260419T234728Z
DTSTART:20230627T150000Z
DTEND:20230628T000000Z
SUMMARY:Smugglers, Inc.® 2.0
DESCRIPTION:Law Enforcement Training
Hosted by: Triple I Solutions

View event details:
https://www.leo-network.com/event/smugglers-inc-2-0-hobart-in-1419/
LOCATION:Hobart, IN
URL:https://www.leo-network.com/event/smugglers-inc-2-0-hobart-in-1419/
END:VEVENT
END:VCALENDAR
