BEGIN:VCALENDAR
VERSION:2.0
PRODID:-//LEO Network//Training Calendar//EN
BEGIN:VEVENT
UID:event-1420@leo-network.com
DTSTAMP:20260423T102522Z
DTSTART:20230629T150000Z
DTEND:20230701T000000Z
SUMMARY:Smugglers, Inc.® 2.0
DESCRIPTION:Law Enforcement Training
Hosted by: Triple I Solutions

View event details:
https://www.leo-network.com/event/smugglers-inc-2-0-hurricane-wv-1420/
LOCATION:Hurricane, WV
URL:https://www.leo-network.com/event/smugglers-inc-2-0-hurricane-wv-1420/
END:VEVENT
END:VCALENDAR
