BEGIN:VCALENDAR
VERSION:2.0
PRODID:-//LEO Network//Training Calendar//EN
BEGIN:VEVENT
UID:event-1428@leo-network.com
DTSTAMP:20260419T204215Z
DTSTART:20230914T150000Z
DTEND:20230915T000000Z
SUMMARY:Smugglers, Inc.® 2.0
DESCRIPTION:Law Enforcement Training
Hosted by: Triple I Solutions

View event details:
https://www.leo-network.com/event/smugglers-inc-2-0-st-paul-mn-1428/
LOCATION:St. Paul, MN
URL:https://www.leo-network.com/event/smugglers-inc-2-0-st-paul-mn-1428/
END:VEVENT
END:VCALENDAR
