BEGIN:VCALENDAR
VERSION:2.0
PRODID:-//LEO Network//Training Calendar//EN
BEGIN:VEVENT
UID:event-1443@leo-network.com
DTSTAMP:20260423T114412Z
DTSTART:20230821T150000Z
DTEND:20230823T000000Z
SUMMARY:Student Control Tactics for School Resource Officers
DESCRIPTION:Law Enforcement Training
Hosted by: 360 Policing

View event details:
https://www.leo-network.com/event/student-control-tactics-for-school-resource-officers-greensboro-nc-1443/
LOCATION:Greensboro, NC
URL:https://www.leo-network.com/event/student-control-tactics-for-school-resource-officers-greensboro-nc-1443/
END:VEVENT
END:VCALENDAR
