BEGIN:VCALENDAR
VERSION:2.0
PRODID:-//LEO Network//Training Calendar//EN
BEGIN:VEVENT
UID:event-1449@leo-network.com
DTSTAMP:20260419T234712Z
DTSTART:20230327T150000Z
DTEND:20230331T000000Z
SUMMARY:Strategies and Tactics of Patrol Stops - “INSTRUCTOR COURSE”
DESCRIPTION:Law Enforcement Training
Hosted by: Pro Train Inc 

View event details:
https://www.leo-network.com/event/strategies-and-tactics-of-patrol-stops-instructor-course-plainfield-in-1449/
LOCATION:Plainfield, IN
URL:https://www.leo-network.com/event/strategies-and-tactics-of-patrol-stops-instructor-course-plainfield-in-1449/
END:VEVENT
END:VCALENDAR
