BEGIN:VCALENDAR
VERSION:2.0
PRODID:-//LEO Network//Training Calendar//EN
BEGIN:VEVENT
UID:event-1453@leo-network.com
DTSTAMP:20260419T223226Z
DTSTART:20230501T150000Z
DTEND:20230505T000000Z
SUMMARY:Strategies and Tactics of Patrol Stops - “INSTRUCTOR COURSE”
DESCRIPTION:Law Enforcement Training
Hosted by: Pro Train Inc 

View event details:
https://www.leo-network.com/event/strategies-and-tactics-of-patrol-stops-instructor-course-brownsburg-in-1453/
LOCATION:Brownsburg , IN
URL:https://www.leo-network.com/event/strategies-and-tactics-of-patrol-stops-instructor-course-brownsburg-in-1453/
END:VEVENT
END:VCALENDAR
