BEGIN:VCALENDAR
VERSION:2.0
PRODID:-//LEO Network//Training Calendar//EN
BEGIN:VEVENT
UID:event-1463@leo-network.com
DTSTAMP:20260419T234619Z
DTSTART:20230911T150000Z
DTEND:20230915T000000Z
SUMMARY:Strategies and Tactics of Patrol Stops - “INSTRUCTOR COURSE”
DESCRIPTION:Law Enforcement Training
Hosted by: Pro Train Inc 

View event details:
https://www.leo-network.com/event/strategies-and-tactics-of-patrol-stops-instructor-course-hobart-in-1463/
LOCATION:Hobart, IN
URL:https://www.leo-network.com/event/strategies-and-tactics-of-patrol-stops-instructor-course-hobart-in-1463/
END:VEVENT
END:VCALENDAR
