BEGIN:VCALENDAR
VERSION:2.0
PRODID:-//LEO Network//Training Calendar//EN
BEGIN:VEVENT
UID:event-1473@leo-network.com
DTSTAMP:20260419T234626Z
DTSTART:20230328T150000Z
DTEND:20230330T000000Z
SUMMARY:Strategies and Tactics of Patrol STOPS - “RE-CERT - Instructor”
DESCRIPTION:Law Enforcement Training
Hosted by: Pro Train Inc 

View event details:
https://www.leo-network.com/event/strategies-and-tactics-of-patrol-stops-re-cert-instructor-plainfield-in-1473/
LOCATION:Plainfield, IN
URL:https://www.leo-network.com/event/strategies-and-tactics-of-patrol-stops-re-cert-instructor-plainfield-in-1473/
END:VEVENT
END:VCALENDAR
