BEGIN:VCALENDAR
VERSION:2.0
PRODID:-//LEO Network//Training Calendar//EN
BEGIN:VEVENT
UID:event-1477@leo-network.com
DTSTAMP:20260419T223304Z
DTSTART:20230502T150000Z
DTEND:20230504T000000Z
SUMMARY:Strategies and Tactics of Patrol STOPS - “RE-CERT - Instructor”
DESCRIPTION:Law Enforcement Training
Hosted by: Pro Train Inc 

View event details:
https://www.leo-network.com/event/strategies-and-tactics-of-patrol-stops-re-cert-instructor-brownsburg-in-1477/
LOCATION:Brownsburg, IN
URL:https://www.leo-network.com/event/strategies-and-tactics-of-patrol-stops-re-cert-instructor-brownsburg-in-1477/
END:VEVENT
END:VCALENDAR
