BEGIN:VCALENDAR
VERSION:2.0
PRODID:-//LEO Network//Training Calendar//EN
BEGIN:VEVENT
UID:event-1488@leo-network.com
DTSTAMP:20260419T221943Z
DTSTART:20230912T150000Z
DTEND:20230914T000000Z
SUMMARY:Strategies and Tactics of Patrol STOPS - “RE-CERT - Instructor”
DESCRIPTION:Law Enforcement Training
Hosted by: Pro Train Inc 

View event details:
https://www.leo-network.com/event/strategies-and-tactics-of-patrol-stops-re-cert-instructor-hobart-in-1488/
LOCATION:Hobart, IN
URL:https://www.leo-network.com/event/strategies-and-tactics-of-patrol-stops-re-cert-instructor-hobart-in-1488/
END:VEVENT
END:VCALENDAR
