BEGIN:VCALENDAR
VERSION:2.0
PRODID:-//LEO Network//Training Calendar//EN
BEGIN:VEVENT
UID:event-1494@leo-network.com
DTSTAMP:20260419T235223Z
DTSTART:20231024T150000Z
DTEND:20231026T000000Z
SUMMARY:Strategies and Tactics of Patrol STOPS - “RE-CERT - Instructor”
DESCRIPTION:Law Enforcement Training
Hosted by: Pro Train Inc 

View event details:
https://www.leo-network.com/event/strategies-and-tactics-of-patrol-stops-re-cert-instructor-plainfield-in-1494/
LOCATION:Plainfield, IN
URL:https://www.leo-network.com/event/strategies-and-tactics-of-patrol-stops-re-cert-instructor-plainfield-in-1494/
END:VEVENT
END:VCALENDAR
