BEGIN:VCALENDAR
VERSION:2.0
PRODID:-//LEO Network//Training Calendar//EN
BEGIN:VEVENT
UID:event-1497@leo-network.com
DTSTAMP:20260419T223226Z
DTSTART:20231201T160000Z
DTEND:20231202T010000Z
SUMMARY:Use of Force - The Real Judicial Rules for 21st Century Law Enforcement
DESCRIPTION:Law Enforcement Training
Hosted by: Pro Train Inc 

View event details:
https://www.leo-network.com/event/use-of-force-the-real-judicial-rules-for-21st-century-law-enforcement-brownsburg-in-1497/
LOCATION:Brownsburg, IN
URL:https://www.leo-network.com/event/use-of-force-the-real-judicial-rules-for-21st-century-law-enforcement-brownsburg-in-1497/
END:VEVENT
END:VCALENDAR
