BEGIN:VCALENDAR
VERSION:2.0
PRODID:-//LEO Network//Training Calendar//EN
BEGIN:VEVENT
UID:event-1498@leo-network.com
DTSTAMP:20260419T222259Z
DTSTART:20231110T160000Z
DTEND:20231111T010000Z
SUMMARY:Use of Force - The Real Judicial Rules for 21st Century Law Enforcement
DESCRIPTION:Law Enforcement Training
Hosted by: Pro Train Inc 

View event details:
https://www.leo-network.com/event/use-of-force-the-real-judicial-rules-for-21st-century-law-enforcement-hobart-in-1498/
LOCATION:Hobart, IN
URL:https://www.leo-network.com/event/use-of-force-the-real-judicial-rules-for-21st-century-law-enforcement-hobart-in-1498/
END:VEVENT
END:VCALENDAR
