BEGIN:VCALENDAR
VERSION:2.0
PRODID:-//LEO Network//Training Calendar//EN
BEGIN:VEVENT
UID:event-1499@leo-network.com
DTSTAMP:20260419T221241Z
DTSTART:20231103T150000Z
DTEND:20231104T000000Z
SUMMARY:Use of Force - The Real Judicial Rules for 21st Century Law Enforcement
DESCRIPTION:Law Enforcement Training
Hosted by: Pro Train Inc 

View event details:
https://www.leo-network.com/event/use-of-force-the-real-judicial-rules-for-21st-century-law-enforcement-brownsburg-in-1499/
LOCATION:Brownsburg, IN
URL:https://www.leo-network.com/event/use-of-force-the-real-judicial-rules-for-21st-century-law-enforcement-brownsburg-in-1499/
END:VEVENT
END:VCALENDAR
