BEGIN:VCALENDAR
VERSION:2.0
PRODID:-//LEO Network//Training Calendar//EN
BEGIN:VEVENT
UID:event-1518@leo-network.com
DTSTAMP:20260422T155029Z
DTSTART:20230720T150000Z
DTEND:20230722T000000Z
SUMMARY:Social Media & Open Source Investigations
DESCRIPTION:Law Enforcement Training
Hosted by: Covert Media Consulting LLC

View event details:
https://www.leo-network.com/event/social-media-open-source-investigations-joplin-mo-1518/
LOCATION:Joplin, MO
URL:https://www.leo-network.com/event/social-media-open-source-investigations-joplin-mo-1518/
END:VEVENT
END:VCALENDAR
