BEGIN:VCALENDAR
VERSION:2.0
PRODID:-//LEO Network//Training Calendar//EN
BEGIN:VEVENT
UID:event-1520@leo-network.com
DTSTAMP:20260421T204134Z
DTSTART:20230803T150000Z
DTEND:20230805T000000Z
SUMMARY:Social Media & Open Source Investigations
DESCRIPTION:Law Enforcement Training
Hosted by: Covert Media Consulting LLC

View event details:
https://www.leo-network.com/event/social-media-open-source-investigations-hartford-ct-1520/
LOCATION:Hartford, CT
URL:https://www.leo-network.com/event/social-media-open-source-investigations-hartford-ct-1520/
END:VEVENT
END:VCALENDAR
