BEGIN:VCALENDAR
VERSION:2.0
PRODID:-//LEO Network//Training Calendar//EN
BEGIN:VEVENT
UID:event-1531@leo-network.com
DTSTAMP:20260421T204140Z
DTSTART:20230927T150000Z
DTEND:20230929T000000Z
SUMMARY:Covert Online Investigations
DESCRIPTION:Law Enforcement Training
Hosted by: Covert Media Consulting LLC

View event details:
https://www.leo-network.com/event/covert-online-investigations-greenwich-ct-1531/
LOCATION:Greenwich, CT
URL:https://www.leo-network.com/event/covert-online-investigations-greenwich-ct-1531/
END:VEVENT
END:VCALENDAR
