BEGIN:VCALENDAR
VERSION:2.0
PRODID:-//LEO Network//Training Calendar//EN
BEGIN:VEVENT
UID:event-1535@leo-network.com
DTSTAMP:20260422T155633Z
DTSTART:20230510T150000Z
DTEND:20230513T000000Z
SUMMARY:Social Media, Open Source & Geofence Investigations
DESCRIPTION:Law Enforcement Training
Hosted by: Covert Media Consulting LLC

View event details:
https://www.leo-network.com/event/social-media-open-source-geofence-investigations-wichita-ks-1535/
LOCATION:Wichita, KS
URL:https://www.leo-network.com/event/social-media-open-source-geofence-investigations-wichita-ks-1535/
END:VEVENT
END:VCALENDAR
