BEGIN:VCALENDAR
VERSION:2.0
PRODID:-//LEO Network//Training Calendar//EN
BEGIN:VEVENT
UID:event-1538@leo-network.com
DTSTAMP:20260423T071637Z
DTSTART:20230816T150000Z
DTEND:20230819T000000Z
SUMMARY:Social Media, Open Source & Geofence Investigations
DESCRIPTION:Law Enforcement Training
Hosted by: Covert Media Consulting LLC

View event details:
https://www.leo-network.com/event/social-media-open-source-geofence-investigations-auburn-al-1538/
LOCATION:Auburn, AL
URL:https://www.leo-network.com/event/social-media-open-source-geofence-investigations-auburn-al-1538/
END:VEVENT
END:VCALENDAR
