BEGIN:VCALENDAR
VERSION:2.0
PRODID:-//LEO Network//Training Calendar//EN
BEGIN:VEVENT
UID:event-1539@leo-network.com
DTSTAMP:20260423T052643Z
DTSTART:20230619T150000Z
DTEND:20230620T000000Z
SUMMARY:New Hampshire Case Law That All Cops Need to Know
DESCRIPTION:Law Enforcement Training
Hosted by: Training Provider

View event details:
https://www.leo-network.com/event/new-hampshire-case-law-that-all-cops-need-to-know-bristol-nh-1539/
LOCATION:Bristol , NH
URL:https://www.leo-network.com/event/new-hampshire-case-law-that-all-cops-need-to-know-bristol-nh-1539/
END:VEVENT
END:VCALENDAR
