BEGIN:VCALENDAR
VERSION:2.0
PRODID:-//LEO Network//Training Calendar//EN
BEGIN:VEVENT
UID:event-1581@leo-network.com
DTSTAMP:20260422T155029Z
DTSTART:20230731T150000Z
DTEND:20230801T000000Z
SUMMARY:TrapMate* Hidden Compartment Training
DESCRIPTION:Law Enforcement Training
Hosted by: Dynamic Police Training

View event details:
https://www.leo-network.com/event/trapmate-hidden-compartment-training-gardner-ks-1581/
LOCATION:Gardner, KS
URL:https://www.leo-network.com/event/trapmate-hidden-compartment-training-gardner-ks-1581/
END:VEVENT
END:VCALENDAR
