BEGIN:VCALENDAR
VERSION:2.0
PRODID:-//LEO Network//Training Calendar//EN
BEGIN:VEVENT
UID:event-1610@leo-network.com
DTSTAMP:20260419T221312Z
DTSTART:20230706T150000Z
DTEND:20230707T000000Z
SUMMARY:Red Dot Sight Pistol Course
DESCRIPTION:Law Enforcement Training
Hosted by: STORM Training Group

View event details:
https://www.leo-network.com/event/red-dot-sight-pistol-course-jordan-mn-1610/
LOCATION:Jordan, MN
URL:https://www.leo-network.com/event/red-dot-sight-pistol-course-jordan-mn-1610/
END:VEVENT
END:VCALENDAR
