BEGIN:VCALENDAR
VERSION:2.0
PRODID:-//LEO Network//Training Calendar//EN
BEGIN:VEVENT
UID:event-1623@leo-network.com
DTSTAMP:20260424T204710Z
DTSTART:20230925T150000Z
DTEND:20230927T000000Z
SUMMARY:Social Media and OSINT
DESCRIPTION:Law Enforcement Training
Hosted by: November Fox

View event details:
https://www.leo-network.com/event/social-media-and-osint-burbank-ca-1623/
LOCATION:Burbank, CA
URL:https://www.leo-network.com/event/social-media-and-osint-burbank-ca-1623/
END:VEVENT
END:VCALENDAR
