BEGIN:VCALENDAR
VERSION:2.0
PRODID:-//LEO Network//Training Calendar//EN
BEGIN:VEVENT
UID:event-1624@leo-network.com
DTSTAMP:20260424T204010Z
DTSTART:20231106T160000Z
DTEND:20231108T010000Z
SUMMARY:Cryptocurrency and the Dark Web
DESCRIPTION:Law Enforcement Training
Hosted by: November Fox

View event details:
https://www.leo-network.com/event/cryptocurrency-and-the-dark-web-burbank-ca-1624/
LOCATION:Burbank, CA
URL:https://www.leo-network.com/event/cryptocurrency-and-the-dark-web-burbank-ca-1624/
END:VEVENT
END:VCALENDAR
