BEGIN:VCALENDAR
VERSION:2.0
PRODID:-//LEO Network//Training Calendar//EN
BEGIN:VEVENT
UID:event-1648@leo-network.com
DTSTAMP:20260421T205109Z
DTSTART:20230929T150000Z
DTEND:20230930T000000Z
SUMMARY:IVORY TOWER
DESCRIPTION:Law Enforcement Training
Hosted by: Captain Tom Rizzo Presents Ivory Tower

View event details:
https://www.leo-network.com/event/ivory-tower-westchester-county-ny-1648/
LOCATION:Westchester County, NY
URL:https://www.leo-network.com/event/ivory-tower-westchester-county-ny-1648/
END:VEVENT
END:VCALENDAR
