BEGIN:VCALENDAR
VERSION:2.0
PRODID:-//LEO Network//Training Calendar//EN
BEGIN:VEVENT
UID:event-1653@leo-network.com
DTSTAMP:20260419T212005Z
DTSTART:20230425T150000Z
DTEND:20230427T000000Z
SUMMARY:2023 NJ Annual Training Conference
DESCRIPTION:Law Enforcement Training
Hosted by: J Harris Academy of Police Training

View event details:
https://www.leo-network.com/event/2023-nj-annual-training-conference-atlantic-city-nj-1653/
LOCATION:Atlantic City, NJ
URL:https://www.leo-network.com/event/2023-nj-annual-training-conference-atlantic-city-nj-1653/
END:VEVENT
END:VCALENDAR
