BEGIN:VCALENDAR
VERSION:2.0
PRODID:-//LEO Network//Training Calendar//EN
BEGIN:VEVENT
UID:event-1654@leo-network.com
DTSTAMP:20260419T212426Z
DTSTART:20230501T150000Z
DTEND:20230505T000000Z
SUMMARY:Command Series Level 1: Developing First Line Supervisors
DESCRIPTION:Law Enforcement Training
Hosted by: J Harris Academy of Police Training

View event details:
https://www.leo-network.com/event/command-series-level-1-developing-first-line-supervisors-cascade-id-1654/
LOCATION:Cascade, ID
URL:https://www.leo-network.com/event/command-series-level-1-developing-first-line-supervisors-cascade-id-1654/
END:VEVENT
END:VCALENDAR
