BEGIN:VCALENDAR
VERSION:2.0
PRODID:-//LEO Network//Training Calendar//EN
BEGIN:VEVENT
UID:event-1656@leo-network.com
DTSTAMP:20260424T104246Z
DTSTART:20230925T150000Z
DTEND:20230929T000000Z
SUMMARY:Command Series Level 1: Developing First Line Supervisors
DESCRIPTION:Law Enforcement Training
Hosted by: J Harris Academy of Police Training

View event details:
https://www.leo-network.com/event/command-series-level-1-developing-first-line-supervisors-mahwah-nj-1656/
LOCATION:Mahwah, NJ
URL:https://www.leo-network.com/event/command-series-level-1-developing-first-line-supervisors-mahwah-nj-1656/
END:VEVENT
END:VCALENDAR
