BEGIN:VCALENDAR
VERSION:2.0
PRODID:-//LEO Network//Training Calendar//EN
BEGIN:VEVENT
UID:event-1658@leo-network.com
DTSTAMP:20260426T001801Z
DTSTART:20240227T160000Z
DTEND:20240202T010000Z
SUMMARY:Command Series Level 1: Developing First Line Supervisors
DESCRIPTION:Law Enforcement Training
Hosted by: J Harris Academy of Police Training

View event details:
https://www.leo-network.com/event/command-series-level-1-developing-first-line-supervisors-edison-nj-1658/
LOCATION:Edison, NJ
URL:https://www.leo-network.com/event/command-series-level-1-developing-first-line-supervisors-edison-nj-1658/
END:VEVENT
END:VCALENDAR
