BEGIN:VCALENDAR
VERSION:2.0
PRODID:-//LEO Network//Training Calendar//EN
BEGIN:VEVENT
UID:event-166@leo-network.com
DTSTAMP:20260420T205729Z
DTSTART:20221116T160000Z
DTEND:20221118T010000Z
SUMMARY:Smugglers, Inc.® 2.0
DESCRIPTION:Law Enforcement Training
Hosted by: Triple I Solutions

View event details:
https://www.leo-network.com/event/smugglers-inc-2-0-north-charleston-sc-166/
LOCATION:North Charleston, SC
URL:https://www.leo-network.com/event/smugglers-inc-2-0-north-charleston-sc-166/
END:VEVENT
END:VCALENDAR
