BEGIN:VCALENDAR
VERSION:2.0
PRODID:-//LEO Network//Training Calendar//EN
BEGIN:VEVENT
UID:event-1660@leo-network.com
DTSTAMP:20260426T035452Z
DTSTART:20240228T160000Z
DTEND:20240301T010000Z
SUMMARY:Command Series Level 2: Developing 
DESCRIPTION:Law Enforcement Training
Hosted by: J Harris Academy of Police Training

View event details:
https://www.leo-network.com/event/command-series-level-2-developing-edison-nj-1660/
LOCATION:Edison, NJ
URL:https://www.leo-network.com/event/command-series-level-2-developing-edison-nj-1660/
END:VEVENT
END:VCALENDAR
