BEGIN:VCALENDAR
VERSION:2.0
PRODID:-//LEO Network//Training Calendar//EN
BEGIN:VEVENT
UID:event-1661@leo-network.com
DTSTAMP:20260422T103235Z
DTSTART:20230522T150000Z
DTEND:20230523T000000Z
SUMMARY:Road Sergeant Tune-Up
DESCRIPTION:Law Enforcement Training
Hosted by: J Harris Academy of Police Training

View event details:
https://www.leo-network.com/event/road-sergeant-tune-up-galloway-nj-1661/
LOCATION:Galloway, NJ
URL:https://www.leo-network.com/event/road-sergeant-tune-up-galloway-nj-1661/
END:VEVENT
END:VCALENDAR
