BEGIN:VCALENDAR
VERSION:2.0
PRODID:-//LEO Network//Training Calendar//EN
BEGIN:VEVENT
UID:event-1662@leo-network.com
DTSTAMP:20260422T115629Z
DTSTART:20230524T150000Z
DTEND:20230525T000000Z
SUMMARY:Road Sergeant Tune-Up
DESCRIPTION:Law Enforcement Training
Hosted by: J Harris Academy of Police Training

View event details:
https://www.leo-network.com/event/road-sergeant-tune-up-little-silver-nj-1662/
LOCATION:Little Silver, NJ
URL:https://www.leo-network.com/event/road-sergeant-tune-up-little-silver-nj-1662/
END:VEVENT
END:VCALENDAR
