BEGIN:VCALENDAR
VERSION:2.0
PRODID:-//LEO Network//Training Calendar//EN
BEGIN:VEVENT
UID:event-1663@leo-network.com
DTSTAMP:20260420T001639Z
DTSTART:20231016T150000Z
DTEND:20231017T000000Z
SUMMARY:Search Warrants & Miranda
DESCRIPTION:Law Enforcement Training
Hosted by: J Harris Academy of Police Training

View event details:
https://www.leo-network.com/event/search-warrants-miranda-lower-township-nj-1663/
LOCATION:Lower Township, NJ
URL:https://www.leo-network.com/event/search-warrants-miranda-lower-township-nj-1663/
END:VEVENT
END:VCALENDAR
