BEGIN:VCALENDAR
VERSION:2.0
PRODID:-//LEO Network//Training Calendar//EN
BEGIN:VEVENT
UID:event-1664@leo-network.com
DTSTAMP:20260419T211858Z
DTSTART:20230508T150000Z
DTEND:20230509T000000Z
SUMMARY:Case Law: Road Cop Essentials
DESCRIPTION:Law Enforcement Training
Hosted by: J Harris Academy of Police Training

View event details:
https://www.leo-network.com/event/case-law-road-cop-essentials-lower-township-nj-1664/
LOCATION:Lower Township, NJ
URL:https://www.leo-network.com/event/case-law-road-cop-essentials-lower-township-nj-1664/
END:VEVENT
END:VCALENDAR
