BEGIN:VCALENDAR
VERSION:2.0
PRODID:-//LEO Network//Training Calendar//EN
BEGIN:VEVENT
UID:event-1665@leo-network.com
DTSTAMP:20260423T033010Z
DTSTART:20230612T150000Z
DTEND:20230613T000000Z
SUMMARY:Caught on Camera: LE Viral Video Survival
DESCRIPTION:Law Enforcement Training
Hosted by: J Harris Academy of Police Training

View event details:
https://www.leo-network.com/event/caught-on-camera-le-viral-video-survival-wayne-nj-1665/
LOCATION:Wayne, NJ
URL:https://www.leo-network.com/event/caught-on-camera-le-viral-video-survival-wayne-nj-1665/
END:VEVENT
END:VCALENDAR
