BEGIN:VCALENDAR
VERSION:2.0
PRODID:-//LEO Network//Training Calendar//EN
BEGIN:VEVENT
UID:event-1666@leo-network.com
DTSTAMP:20260424T051047Z
DTSTART:20230920T150000Z
DTEND:20230921T000000Z
SUMMARY:Caught on Camera: LE Viral Video Survival
DESCRIPTION:Law Enforcement Training
Hosted by: J Harris Academy of Police Training

View event details:
https://www.leo-network.com/event/caught-on-camera-le-viral-video-survival-somerset-nj-1666/
LOCATION:Somerset, NJ
URL:https://www.leo-network.com/event/caught-on-camera-le-viral-video-survival-somerset-nj-1666/
END:VEVENT
END:VCALENDAR
