BEGIN:VCALENDAR
VERSION:2.0
PRODID:-//LEO Network//Training Calendar//EN
BEGIN:VEVENT
UID:event-1667@leo-network.com
DTSTAMP:20260424T051716Z
DTSTART:20230920T150000Z
DTEND:20230921T000000Z
SUMMARY:Evaluating Employee Performance
DESCRIPTION:Law Enforcement Training
Hosted by: J Harris Academy of Police Training

View event details:
https://www.leo-network.com/event/evaluating-employee-performance-rochelle-park-nj-1667/
LOCATION:Rochelle Park, NJ
URL:https://www.leo-network.com/event/evaluating-employee-performance-rochelle-park-nj-1667/
END:VEVENT
END:VCALENDAR
