BEGIN:VCALENDAR
VERSION:2.0
PRODID:-//LEO Network//Training Calendar//EN
BEGIN:VEVENT
UID:event-1669@leo-network.com
DTSTAMP:20260419T194611Z
DTSTART:20230509T150000Z
DTEND:20230510T000000Z
SUMMARY:NJ Open Public Records (OPRA) 
DESCRIPTION:Law Enforcement Training
Hosted by: J Harris Academy of Police Training

View event details:
https://www.leo-network.com/event/nj-open-public-records-opra-mount-laurel-nj-1669/
LOCATION:Mount Laurel, NJ
URL:https://www.leo-network.com/event/nj-open-public-records-opra-mount-laurel-nj-1669/
END:VEVENT
END:VCALENDAR
