BEGIN:VCALENDAR
VERSION:2.0
PRODID:-//LEO Network//Training Calendar//EN
BEGIN:VEVENT
UID:event-1670@leo-network.com
DTSTAMP:20260420T071118Z
DTSTART:20230517T150000Z
DTEND:20230518T000000Z
SUMMARY:Homicide: First Responder Essentials
DESCRIPTION:Law Enforcement Training
Hosted by: J Harris Academy of Police Training

View event details:
https://www.leo-network.com/event/homicide-first-responder-essentials-wayne-nj-1670/
LOCATION:Wayne, NJ
URL:https://www.leo-network.com/event/homicide-first-responder-essentials-wayne-nj-1670/
END:VEVENT
END:VCALENDAR
