BEGIN:VCALENDAR
VERSION:2.0
PRODID:-//LEO Network//Training Calendar//EN
BEGIN:VEVENT
UID:event-1671@leo-network.com
DTSTAMP:20260422T090218Z
DTSTART:20230518T150000Z
DTEND:20230519T000000Z
SUMMARY:Homicide: First Responder Essentials
DESCRIPTION:Law Enforcement Training
Hosted by: J Harris Academy of Police Training

View event details:
https://www.leo-network.com/event/homicide-first-responder-essentials-galloway-nj-1671/
LOCATION:Galloway, NJ
URL:https://www.leo-network.com/event/homicide-first-responder-essentials-galloway-nj-1671/
END:VEVENT
END:VCALENDAR
