BEGIN:VCALENDAR
VERSION:2.0
PRODID:-//LEO Network//Training Calendar//EN
BEGIN:VEVENT
UID:event-1725@leo-network.com
DTSTAMP:20260424T183147Z
DTSTART:20230719T150000Z
DTEND:20230720T000000Z
SUMMARY:Veterans/LE Interactions - Basic (CA POST & STC)
DESCRIPTION:Law Enforcement Training
Hosted by: Secure Measures, LLC

View event details:
https://www.leo-network.com/event/veterans-le-interactions-basic-ca-post-stc-irvine-ca-1725/
LOCATION:Irvine, CA
URL:https://www.leo-network.com/event/veterans-le-interactions-basic-ca-post-stc-irvine-ca-1725/
END:VEVENT
END:VCALENDAR
